BEGIN:VCALENDAR
VERSION:2.0
PRODID:-//eventon.com NONSGML v1.0//EN
CALSCALE:GREGORIAN
METHOD:PUBLISH
BEGIN:VEVENT
UID:69ea245a2bc50
DTSTAMP:20260423T135330Z
DTSTART:20260615T080000Z
DTEND:20260623T110000Z
LOCATION:
SUMMARY:Stonehenge Solstice Wisdom of the Heart Retreat: Pilgrimage through Megalithic Stone Circles
DESCRIPTION:Are you ready for Pilgrimage\,  Ceremony\,  and Heart-Opening W
 isdom? Join us on a captivating journey across England\,  where we’ll del
 ve into the mysteries of megalithic stone circles\,  explore ancient mystic
 al locations\,  and share in ceremonial solstice. FIND OUT MORE HERE! Engla
 nd\nhttps://mysticjourneys.us/events/england-2026/
URL:https://mysticjourneys.us/events/england-2026/
END:VEVENT
END:VCALENDAR