BEGIN:VCALENDAR
VERSION:2.0
PRODID:-//eventon.com NONSGML v1.0//EN
CALSCALE:GREGORIAN
METHOD:PUBLISH
BEGIN:VEVENT
UID:69ea245a2bc40
DTSTAMP:20260423T135330Z
DTSTART:20260625T080000Z
DTEND:20260702T110000Z
LOCATION:
SUMMARY:Pilgrimage to the Stones: A Sacred Journey through Scotland's Megalithic Stone Circles
DESCRIPTION:Are you ready for a Pilgrimage of Transformation — one woven 
 with Ceremony\,  Ancient Wisdom\,  and the Magic of the Land? Join us on a 
 sacred journey across Scotland\,  where we’ll awaken the soul through anc
 ient stone circles\,  mystical landscapes\,  and powerful initiations that 
 connect us to the timeless spirit[..]\nhttps://mysticjourneys.us/events/pil
 grimagetothestonesscotland/
URL:https://mysticjourneys.us/events/pilgrimagetothestonesscotland/
END:VEVENT
END:VCALENDAR